Package: GeneGA Version: 1.56.0 Command: /Library/Frameworks/R.framework/Resources/bin/R CMD build --keep-empty-dirs --no-resave-data GeneGA StartedAt: 2025-01-30 19:18:41 -0500 (Thu, 30 Jan 2025) EndedAt: 2025-01-30 19:22:15 -0500 (Thu, 30 Jan 2025) EllapsedTime: 213.8 seconds RetCode: 0 Status: OK PackageFile: GeneGA_1.56.0.tar.gz PackageFileSize: 227.9 KiB