Package: GeneGA Version: 1.56.0 Command: /home/biocbuild/bbs-3.20-bioc/R/bin/R CMD build --keep-empty-dirs --no-resave-data --md5 GeneGA StartedAt: 2025-01-30 17:21:48 -0500 (Thu, 30 Jan 2025) EndedAt: 2025-01-30 17:22:55 -0500 (Thu, 30 Jan 2025) EllapsedTime: 67.1 seconds RetCode: 0 Status: OK PackageFile: GeneGA_1.56.0.tar.gz PackageFileSize: 229.3 KiB