Package: GeneGA Version: 1.56.0 Command: /home/biocbuild/bbs-3.20-bioc/R/bin/R CMD check --install=check:GeneGA.install-out.txt --library=/home/biocbuild/bbs-3.20-bioc/R/site-library --timings GeneGA_1.56.0.tar.gz StartedAt: 2025-01-30 22:26:45 -0500 (Thu, 30 Jan 2025) EndedAt: 2025-01-30 22:29:27 -0500 (Thu, 30 Jan 2025) EllapsedTime: 162.2 seconds RetCode: 0 Status: OK CheckDir: GeneGA.Rcheck Warnings: 0