Package: GeneGA Version: 1.56.0 Command: /home/biocbuild/R/R/bin/R CMD build --keep-empty-dirs --no-resave-data GeneGA StartedAt: 2025-01-30 23:46:39 -0000 (Thu, 30 Jan 2025) EndedAt: 2025-01-30 23:46:45 -0000 (Thu, 30 Jan 2025) EllapsedTime: 6.0 seconds RetCode: 1 Status: ERROR PackageFile: None PackageFileSize: NA