Package: GeneGeneInteR
Version: 1.32.0
Command: /Library/Frameworks/R.framework/Resources/bin/R CMD build --keep-empty-dirs --no-resave-data GeneGeneInteR
StartedAt: 2024-11-19 16:55:57 -0500 (Tue, 19 Nov 2024)
EndedAt: 2024-11-19 16:56:58 -0500 (Tue, 19 Nov 2024)
EllapsedTime: 60.5 seconds
RetCode: 0
Status: OK
PackageFile: GeneGeneInteR_1.32.0.tar.gz
PackageFileSize: 1.275 <A href="http://en.wikipedia.org/wiki/MiB" target="_blank">MiB</A>