Package: GeneGeneInteR Version: 1.32.0 Command: /Library/Frameworks/R.framework/Resources/bin/R CMD check --install=check:GeneGeneInteR.install-out.txt --library=/Library/Frameworks/R.framework/Resources/library --no-vignettes --timings GeneGeneInteR_1.32.0.tar.gz StartedAt: 2025-02-04 04:05:23 -0500 (Tue, 04 Feb 2025) EndedAt: 2025-02-04 04:11:16 -0500 (Tue, 04 Feb 2025) EllapsedTime: 353.9 seconds RetCode: 0 Status: OK CheckDir: GeneGeneInteR.Rcheck Warnings: 0