Package: GeneGeneInteR
Version: 1.32.0
Command: F:\biocbuild\bbs-3.20-bioc\R\bin\R.exe CMD check --no-multiarch --install=check:GeneGeneInteR.install-out.txt --library=F:\biocbuild\bbs-3.20-bioc\R\library --no-vignettes --timings GeneGeneInteR_1.32.0.tar.gz
StartedAt: 2025-02-18 01:45:34 -0500 (Tue, 18 Feb 2025)
EndedAt: 2025-02-18 01:49:02 -0500 (Tue, 18 Feb 2025)
EllapsedTime: 207.6 seconds
RetCode: 0
Status: OK
CheckDir: GeneGeneInteR.Rcheck
Warnings: 0