Package: GeneGeneInteR Version: 1.32.0 Command: /home/biocbuild/R/R/bin/R CMD check --install=check:GeneGeneInteR.install-out.txt --library=/home/biocbuild/R/R/site-library --no-vignettes --timings GeneGeneInteR_1.32.0.tar.gz StartedAt: 2025-02-04 07:15:02 -0000 (Tue, 04 Feb 2025) EndedAt: 2025-02-04 07:18:19 -0000 (Tue, 04 Feb 2025) EllapsedTime: 197.2 seconds RetCode: 0 Status: OK CheckDir: GeneGeneInteR.Rcheck Warnings: 0