Package: GeneMeta Version: 1.78.0 Command: /Library/Frameworks/R.framework/Resources/bin/R CMD build --keep-empty-dirs --no-resave-data GeneMeta StartedAt: 2025-02-04 00:05:23 -0500 (Tue, 04 Feb 2025) EndedAt: 2025-02-04 00:05:59 -0500 (Tue, 04 Feb 2025) EllapsedTime: 36.5 seconds RetCode: 0 Status: OK PackageFile: GeneMeta_1.78.0.tar.gz PackageFileSize: 2.704 MiB