Package: GeneMeta Version: 1.78.0 Command: /Library/Frameworks/R.framework/Resources/bin/R CMD build --keep-empty-dirs --no-resave-data GeneMeta StartedAt: 2025-02-03 19:07:19 -0500 (Mon, 03 Feb 2025) EndedAt: 2025-02-03 19:08:32 -0500 (Mon, 03 Feb 2025) EllapsedTime: 72.4 seconds RetCode: 0 Status: OK PackageFile: GeneMeta_1.78.0.tar.gz PackageFileSize: 2.704 MiB