Package: GeneMeta
Version: 1.78.0
Command: /Library/Frameworks/R.framework/Resources/bin/R CMD check --install=check:GeneMeta.install-out.txt --library=/Library/Frameworks/R.framework/Resources/library --no-vignettes --timings GeneMeta_1.78.0.tar.gz
StartedAt: 2025-02-18 03:34:34 -0500 (Tue, 18 Feb 2025)
EndedAt: 2025-02-18 03:37:08 -0500 (Tue, 18 Feb 2025)
EllapsedTime: 154.5 seconds
RetCode: 0
Status: OK
CheckDir: GeneMeta.Rcheck
Warnings: 0