Package: GeneMeta Version: 1.78.0 Command: /home/biocbuild/bbs-3.20-bioc/R/bin/R CMD build --keep-empty-dirs --no-resave-data --md5 GeneMeta StartedAt: 2025-02-03 17:31:26 -0500 (Mon, 03 Feb 2025) EndedAt: 2025-02-03 17:31:58 -0500 (Mon, 03 Feb 2025) EllapsedTime: 32.1 seconds RetCode: 0 Status: OK PackageFile: GeneMeta_1.78.0.tar.gz PackageFileSize: 2.705 MiB