Package: GeneMeta Version: 1.78.0 Command: /home/biocbuild/bbs-3.20-bioc/R/bin/R CMD INSTALL GeneMeta StartedAt: 2025-02-03 15:56:59 -0500 (Mon, 03 Feb 2025) EndedAt: 2025-02-03 15:57:17 -0500 (Mon, 03 Feb 2025) EllapsedTime: 18.6 seconds RetCode: 0 Status: OK