Package: GeneNetworkBuilder Version: 1.48.0 Command: /Library/Frameworks/R.framework/Resources/bin/R CMD build --keep-empty-dirs --no-resave-data GeneNetworkBuilder StartedAt: 2025-02-04 00:05:57 -0500 (Tue, 04 Feb 2025) EndedAt: 2025-02-04 00:12:35 -0500 (Tue, 04 Feb 2025) EllapsedTime: 397.8 seconds RetCode: 0 Status: OK PackageFile: GeneNetworkBuilder_1.48.0.tar.gz PackageFileSize: 7.391 MiB