Package: GeneNetworkBuilder Version: 1.48.0 Command: /Library/Frameworks/R.framework/Resources/bin/R CMD build --keep-empty-dirs --no-resave-data GeneNetworkBuilder StartedAt: 2025-02-03 19:07:20 -0500 (Mon, 03 Feb 2025) EndedAt: 2025-02-03 19:17:58 -0500 (Mon, 03 Feb 2025) EllapsedTime: 638.0 seconds RetCode: 0 Status: OK PackageFile: GeneNetworkBuilder_1.48.0.tar.gz PackageFileSize: 7.39 MiB