Package: GeneNetworkBuilder Version: 1.48.0 Command: /Library/Frameworks/R.framework/Resources/bin/R CMD check --install=check:GeneNetworkBuilder.install-out.txt --library=/Library/Frameworks/R.framework/Resources/library --no-vignettes --timings GeneNetworkBuilder_1.48.0.tar.gz StartedAt: 2025-02-04 04:05:59 -0500 (Tue, 04 Feb 2025) EndedAt: 2025-02-04 04:08:34 -0500 (Tue, 04 Feb 2025) EllapsedTime: 155.6 seconds RetCode: 0 Status: OK CheckDir: GeneNetworkBuilder.Rcheck Warnings: 0