Package: GeneNetworkBuilder Version: 1.48.0 Command: /home/biocbuild/bbs-3.20-bioc/R/bin/R CMD build --keep-empty-dirs --no-resave-data --md5 GeneNetworkBuilder StartedAt: 2025-02-03 17:31:27 -0500 (Mon, 03 Feb 2025) EndedAt: 2025-02-03 17:40:44 -0500 (Mon, 03 Feb 2025) EllapsedTime: 556.7 seconds RetCode: 0 Status: OK PackageFile: GeneNetworkBuilder_1.48.0.tar.gz PackageFileSize: 7.378 MiB