Package: GeneNetworkBuilder Version: 1.47.0 Command: chmod a+r GeneNetworkBuilder -R && C:\Users\biocbuild\bbs-3.20-bioc\R\bin\R.exe CMD build --keep-empty-dirs --no-resave-data GeneNetworkBuilder StartedAt: 2024-07-15 18:14:32 -0400 (Mon, 15 Jul 2024) EndedAt: 2024-07-15 18:22:15 -0400 (Mon, 15 Jul 2024) EllapsedTime: 462.9 seconds RetCode: 0 Status: OK PackageFile: GeneNetworkBuilder_1.47.0.tar.gz PackageFileSize: 8.514 MiB