Package: GeneNetworkBuilder Version: 1.48.0 Command: chmod a+r GeneNetworkBuilder -R && F:\biocbuild\bbs-3.20-bioc\R\bin\R.exe CMD build --keep-empty-dirs --no-resave-data GeneNetworkBuilder StartedAt: 2025-02-03 19:21:47 -0500 (Mon, 03 Feb 2025) EndedAt: 2025-02-03 19:28:36 -0500 (Mon, 03 Feb 2025) EllapsedTime: 409.0 seconds RetCode: 0 Status: OK PackageFile: GeneNetworkBuilder_1.48.0.tar.gz PackageFileSize: 7.275 MiB