Package: GeneNetworkBuilder Version: 1.48.0 Command: /home/biocbuild/R/R/bin/R CMD INSTALL GeneNetworkBuilder StartedAt: 2025-02-10 20:49:45 -0000 (Mon, 10 Feb 2025) EndedAt: 2025-02-10 20:50:09 -0000 (Mon, 10 Feb 2025) EllapsedTime: 24.0 seconds RetCode: 0 Status: OK