Package: GeneOverlap Version: 1.42.0 Command: rm -rf GeneOverlap.buildbin-libdir && mkdir GeneOverlap.buildbin-libdir && /Users/biocbuild/BBS/utils/build-universal.sh GeneOverlap_1.42.0.tar.gz /Library/Frameworks/R.framework/Resources/bin/R GeneOverlap.buildbin-libdir StartedAt: 2025-02-05 15:58:04 -0500 (Wed, 05 Feb 2025) EndedAt: 2025-02-05 15:58:09 -0500 (Wed, 05 Feb 2025) EllapsedTime: 4.6 seconds RetCode: 0 Status: OK PackageFile: GeneOverlap_1.42.0.tgz PackageFileSize: 539.9 KiB