Package: GeneOverlap Version: 1.42.0 Command: rm -rf GeneOverlap.buildbin-libdir && mkdir GeneOverlap.buildbin-libdir && /Users/biocbuild/BBS/utils/build-universal.sh GeneOverlap_1.42.0.tar.gz /Library/Frameworks/R.framework/Resources/bin/R GeneOverlap.buildbin-libdir StartedAt: 2025-02-11 13:18:23 -0500 (Tue, 11 Feb 2025) EndedAt: 2025-02-11 13:18:40 -0500 (Tue, 11 Feb 2025) EllapsedTime: 16.4 seconds RetCode: 0 Status: OK PackageFile: GeneOverlap_1.42.0.tgz PackageFileSize: 540.2 KiB