Package: GeneOverlap Version: 1.42.0 Command: /Library/Frameworks/R.framework/Resources/bin/R CMD INSTALL GeneOverlap StartedAt: 2025-02-10 15:06:03 -0500 (Mon, 10 Feb 2025) EndedAt: 2025-02-10 15:06:27 -0500 (Mon, 10 Feb 2025) EllapsedTime: 24.2 seconds RetCode: 0 Status: OK