Package: GeneOverlap Version: 1.42.0 Command: /home/biocbuild/bbs-3.20-bioc/R/bin/R CMD build --keep-empty-dirs --no-resave-data --md5 GeneOverlap StartedAt: 2025-02-10 17:23:59 -0500 (Mon, 10 Feb 2025) EndedAt: 2025-02-10 17:24:07 -0500 (Mon, 10 Feb 2025) EllapsedTime: 8.0 seconds RetCode: 0 Status: OK PackageFile: GeneOverlap_1.42.0.tar.gz PackageFileSize: 361.9 KiB