Package: GeneOverlap Version: 1.42.0 Command: chmod a+r GeneOverlap -R && F:\biocbuild\bbs-3.20-bioc\R\bin\R.exe CMD build --keep-empty-dirs --no-resave-data GeneOverlap StartedAt: 2025-02-03 19:21:56 -0500 (Mon, 03 Feb 2025) EndedAt: 2025-02-03 19:22:22 -0500 (Mon, 03 Feb 2025) EllapsedTime: 25.9 seconds RetCode: 0 Status: OK PackageFile: GeneOverlap_1.42.0.tar.gz PackageFileSize: 361.5 KiB