Package: GeneOverlap Version: 1.42.0 Command: F:\biocbuild\bbs-3.20-bioc\R\bin\R.exe CMD check --no-multiarch --install=check:GeneOverlap.install-out.txt --library=F:\biocbuild\bbs-3.20-bioc\R\library --no-vignettes --timings GeneOverlap_1.42.0.tar.gz StartedAt: 2025-02-11 02:00:36 -0500 (Tue, 11 Feb 2025) EndedAt: 2025-02-11 02:01:13 -0500 (Tue, 11 Feb 2025) EllapsedTime: 36.5 seconds RetCode: 0 Status: OK CheckDir: GeneOverlap.Rcheck Warnings: 0