Package: GeneSelectMMD Version: 2.50.0 Command: rm -rf GeneSelectMMD.buildbin-libdir && mkdir GeneSelectMMD.buildbin-libdir && /Users/biocbuild/BBS/utils/build-universal.sh GeneSelectMMD_2.50.0.tar.gz /Library/Frameworks/R.framework/Resources/bin/R GeneSelectMMD.buildbin-libdir StartedAt: 2025-02-05 15:58:21 -0500 (Wed, 05 Feb 2025) EndedAt: 2025-02-05 15:58:35 -0500 (Wed, 05 Feb 2025) EllapsedTime: 13.5 seconds RetCode: 0 Status: OK PackageFile: GeneSelectMMD_2.50.0.tgz PackageFileSize: 545.6 KiB