Package: GeneSelectMMD Version: 2.50.0 Command: /Library/Frameworks/R.framework/Resources/bin/R CMD build --keep-empty-dirs --no-resave-data GeneSelectMMD StartedAt: 2025-02-04 00:07:02 -0500 (Tue, 04 Feb 2025) EndedAt: 2025-02-04 00:07:31 -0500 (Tue, 04 Feb 2025) EllapsedTime: 28.6 seconds RetCode: 0 Status: OK PackageFile: GeneSelectMMD_2.50.0.tar.gz PackageFileSize: 454.9 KiB