Package: GeneSelectMMD Version: 2.50.0 Command: /Library/Frameworks/R.framework/Resources/bin/R CMD build --keep-empty-dirs --no-resave-data GeneSelectMMD StartedAt: 2025-02-03 19:08:07 -0500 (Mon, 03 Feb 2025) EndedAt: 2025-02-03 19:08:44 -0500 (Mon, 03 Feb 2025) EllapsedTime: 37.0 seconds RetCode: 0 Status: OK PackageFile: GeneSelectMMD_2.50.0.tar.gz PackageFileSize: 455 KiB