Package: GeneSelectMMD Version: 2.50.0 Command: /Library/Frameworks/R.framework/Resources/bin/R CMD INSTALL GeneSelectMMD StartedAt: 2025-02-03 15:18:18 -0500 (Mon, 03 Feb 2025) EndedAt: 2025-02-03 15:18:44 -0500 (Mon, 03 Feb 2025) EllapsedTime: 25.5 seconds RetCode: 0 Status: OK