##############################################################################
##############################################################################
###
### Running command:
###
###   rm -rf GeneSelectMMD.buildbin-libdir && mkdir GeneSelectMMD.buildbin-libdir && F:\biocbuild\bbs-3.20-bioc\R\bin\R.exe CMD INSTALL --build --library=GeneSelectMMD.buildbin-libdir GeneSelectMMD_2.49.0.tar.gz
###
##############################################################################
##############################################################################


* installing *source* package 'GeneSelectMMD' ...
** using staged installation
** libs
using C compiler: 'gcc.exe (GCC) 13.2.0'
using Fortran compiler: 'GNU Fortran (GCC) 13.2.0'
gcc  -I"F:/biocbuild/bbs-3.20-bioc/R/include" -DNDEBUG     -I"C:/rtools44/x86_64-w64-mingw32.static.posix/include"     -O2 -Wall  -mfpmath=sse -msse2 -mstackrealign  -c GeneSelectMMD_init.c -o GeneSelectMMD_init.o
gfortran      -O2  -mfpmath=sse -msse2 -mstackrealign  -c Qfunc.f -o Qfunc.o
gfortran      -O2  -mfpmath=sse -msse2 -mstackrealign  -c blas.f -o blas.o
gcc  -I"F:/biocbuild/bbs-3.20-bioc/R/include" -DNDEBUG     -I"C:/rtools44/x86_64-w64-mingw32.static.posix/include"     -O2 -Wall  -mfpmath=sse -msse2 -mstackrealign  -c isnan.c -o isnan.o
gfortran      -O2  -mfpmath=sse -msse2 -mstackrealign  -c lbfgsb.f -o lbfgsb.o
gfortran      -O2  -mfpmath=sse -msse2 -mstackrealign  -c lbfgsbDriver.f -o lbfgsbDriver.o
gfortran      -O2  -mfpmath=sse -msse2 -mstackrealign  -c linpack.f -o linpack.o
gfortran      -O2  -mfpmath=sse -msse2 -mstackrealign  -c llkhFun.f -o llkhFun.o
gfortran      -O2  -mfpmath=sse -msse2 -mstackrealign  -c myTtest.f -o myTtest.o
gfortran      -O2  -mfpmath=sse -msse2 -mstackrealign  -c paraEstLoop.f -o paraEstLoop.o
gcc  -I"F:/biocbuild/bbs-3.20-bioc/R/include" -DNDEBUG     -I"C:/rtools44/x86_64-w64-mingw32.static.posix/include"     -O2 -Wall  -mfpmath=sse -msse2 -mstackrealign  -c pt.c -o pt.o
gfortran      -O2  -mfpmath=sse -msse2 -mstackrealign  -c timer.f -o timer.o
gfortran      -O2  -mfpmath=sse -msse2 -mstackrealign  -c wiFun.f -o wiFun.o
gcc -shared -s -static-libgcc -o GeneSelectMMD.dll tmp.def GeneSelectMMD_init.o Qfunc.o blas.o isnan.o lbfgsb.o lbfgsbDriver.o linpack.o llkhFun.o myTtest.o paraEstLoop.o pt.o timer.o wiFun.o -LC:/rtools44/x86_64-w64-mingw32.static.posix/lib/x64 -LC:/rtools44/x86_64-w64-mingw32.static.posix/lib -lgfortran -lm -lquadmath -LF:/biocbuild/bbs-3.20-bioc/R/bin/x64 -lR
installing to F:/biocbuild/bbs-3.20-bioc/meat/GeneSelectMMD.buildbin-libdir/00LOCK-GeneSelectMMD/00new/GeneSelectMMD/libs/x64
** R
** inst
** byte-compile and prepare package for lazy loading
** help
*** installing help indices
** building package indices
** installing vignettes
** testing if installed package can be loaded from temporary location
** testing if installed package can be loaded from final location
** testing if installed package keeps a record of temporary installation path
* MD5 sums
packaged installation of 'GeneSelectMMD' as GeneSelectMMD_2.49.0.zip
* DONE (GeneSelectMMD)