Package: GeneSelectMMD Version: 2.50.0 Command: chmod a+r GeneSelectMMD -R && F:\biocbuild\bbs-3.20-bioc\R\bin\R.exe CMD build --keep-empty-dirs --no-resave-data GeneSelectMMD StartedAt: 2025-02-03 19:22:32 -0500 (Mon, 03 Feb 2025) EndedAt: 2025-02-03 19:22:57 -0500 (Mon, 03 Feb 2025) EllapsedTime: 25.8 seconds RetCode: 0 Status: OK PackageFile: GeneSelectMMD_2.50.0.tar.gz PackageFileSize: 312.1 KiB