Package: GeneSelectMMD Version: 2.50.0 Command: F:\biocbuild\bbs-3.20-bioc\R\bin\R.exe CMD INSTALL GeneSelectMMD StartedAt: 2025-02-03 15:38:17 -0500 (Mon, 03 Feb 2025) EndedAt: 2025-02-03 15:38:40 -0500 (Mon, 03 Feb 2025) EllapsedTime: 23.6 seconds RetCode: 0 Status: OK