Package: GeneSelectMMD Version: 2.50.0 Command: /home/biocbuild/R/R/bin/R CMD check --install=check:GeneSelectMMD.install-out.txt --library=/home/biocbuild/R/R/site-library --no-vignettes --timings GeneSelectMMD_2.50.0.tar.gz StartedAt: 2025-02-04 07:16:48 -0000 (Tue, 04 Feb 2025) EndedAt: 2025-02-04 07:17:23 -0000 (Tue, 04 Feb 2025) EllapsedTime: 35.1 seconds RetCode: 0 Status: WARNINGS CheckDir: GeneSelectMMD.Rcheck Warnings: 1