Package: GeneStructureTools Version: 1.26.0 Command: /Library/Frameworks/R.framework/Resources/bin/R CMD build --keep-empty-dirs --no-resave-data GeneStructureTools StartedAt: 2025-02-11 00:16:33 -0500 (Tue, 11 Feb 2025) EndedAt: 2025-02-11 00:19:18 -0500 (Tue, 11 Feb 2025) EllapsedTime: 165.8 seconds RetCode: 0 Status: OK PackageFile: GeneStructureTools_1.26.0.tar.gz PackageFileSize: 2.848 MiB