Package: GeneStructureTools Version: 1.26.0 Command: /Library/Frameworks/R.framework/Resources/bin/R CMD build --keep-empty-dirs --no-resave-data GeneStructureTools StartedAt: 2025-02-03 19:08:19 -0500 (Mon, 03 Feb 2025) EndedAt: 2025-02-03 19:14:21 -0500 (Mon, 03 Feb 2025) EllapsedTime: 362.0 seconds RetCode: 0 Status: OK PackageFile: GeneStructureTools_1.26.0.tar.gz PackageFileSize: 2.848 MiB