Package: GeneStructureTools Version: 1.26.0 Command: /home/biocbuild/bbs-3.20-bioc/R/bin/R CMD build --keep-empty-dirs --no-resave-data --md5 GeneStructureTools StartedAt: 2025-02-10 17:24:38 -0500 (Mon, 10 Feb 2025) EndedAt: 2025-02-10 17:27:02 -0500 (Mon, 10 Feb 2025) EllapsedTime: 144.2 seconds RetCode: 0 Status: OK PackageFile: GeneStructureTools_1.26.0.tar.gz PackageFileSize: 2.824 MiB