Package: GeneStructureTools Version: 1.26.0 Command: rm -rf GeneStructureTools.buildbin-libdir && mkdir GeneStructureTools.buildbin-libdir && F:\biocbuild\bbs-3.20-bioc\R\bin\R.exe CMD INSTALL --build --library=GeneStructureTools.buildbin-libdir GeneStructureTools_1.26.0.tar.gz StartedAt: 2025-02-11 08:31:28 -0500 (Tue, 11 Feb 2025) EndedAt: 2025-02-11 08:33:09 -0500 (Tue, 11 Feb 2025) EllapsedTime: 100.9 seconds RetCode: 0 Status: OK PackageFile: GeneStructureTools_1.26.0.zip PackageFileSize: 1.669 MiB