Package: GeneTonic Version: 3.0.0 Command: /home/biocbuild/bbs-3.20-bioc/R/bin/R CMD INSTALL GeneTonic StartedAt: 2025-02-03 15:58:54 -0500 (Mon, 03 Feb 2025) EndedAt: 2025-02-03 15:59:50 -0500 (Mon, 03 Feb 2025) EllapsedTime: 56.1 seconds RetCode: 0 Status: OK