Package: GeneTonic Version: 3.0.0 Command: F:\biocbuild\bbs-3.20-bioc\R\bin\R.exe CMD INSTALL GeneTonic StartedAt: 2025-02-03 17:05:10 -0500 (Mon, 03 Feb 2025) EndedAt: 2025-02-03 17:06:31 -0500 (Mon, 03 Feb 2025) EllapsedTime: 80.1 seconds RetCode: 0 Status: OK