Package: GeneticsPed Version: 1.68.0 Command: chmod a+r GeneticsPed -R && F:\biocbuild\bbs-3.20-bioc\R\bin\R.exe CMD build --keep-empty-dirs --no-resave-data GeneticsPed StartedAt: 2025-02-03 19:22:54 -0500 (Mon, 03 Feb 2025) EndedAt: 2025-02-03 19:23:43 -0500 (Mon, 03 Feb 2025) EllapsedTime: 48.8 seconds RetCode: 0 Status: OK PackageFile: GeneticsPed_1.68.0.tar.gz PackageFileSize: 357.1 KiB