Package: GenomAutomorphism Version: 1.8.1 Command: /Library/Frameworks/R.framework/Resources/bin/R CMD INSTALL GenomAutomorphism StartedAt: 2025-02-03 18:17:59 -0500 (Mon, 03 Feb 2025) EndedAt: 2025-02-03 18:18:26 -0500 (Mon, 03 Feb 2025) EllapsedTime: 26.5 seconds RetCode: 0 Status: OK