Package: GenomAutomorphism Version: 1.8.1 Command: /home/biocbuild/bbs-3.20-bioc/R/bin/R CMD build --keep-empty-dirs --no-resave-data --md5 GenomAutomorphism StartedAt: 2025-02-03 17:32:33 -0500 (Mon, 03 Feb 2025) EndedAt: 2025-02-03 17:33:59 -0500 (Mon, 03 Feb 2025) EllapsedTime: 85.1 seconds RetCode: 0 Status: OK PackageFile: GenomAutomorphism_1.8.1.tar.gz PackageFileSize: 1.447 MiB