Package: GenomAutomorphism Version: 1.8.1 Command: /home/biocbuild/bbs-3.20-bioc/R/bin/R CMD check --install=check:GenomAutomorphism.install-out.txt --library=/home/biocbuild/bbs-3.20-bioc/R/site-library --timings GenomAutomorphism_1.8.1.tar.gz StartedAt: 2025-02-03 22:39:46 -0500 (Mon, 03 Feb 2025) EndedAt: 2025-02-03 22:43:59 -0500 (Mon, 03 Feb 2025) EllapsedTime: 253.2 seconds RetCode: 0 Status: WARNINGS CheckDir: GenomAutomorphism.Rcheck Warnings: 1