Package: GenomAutomorphism
Version: 1.8.1
Command: /home/biocbuild/bbs-3.20-bioc/R/bin/R CMD INSTALL GenomAutomorphism
StartedAt: 2025-02-17 16:02:36 -0500 (Mon, 17 Feb 2025)
EndedAt: 2025-02-17 16:02:58 -0500 (Mon, 17 Feb 2025)
EllapsedTime: 21.6 seconds
RetCode: 0
Status: OK