Package: GenomAutomorphism Version: 1.8.1 Command: rm -rf GenomAutomorphism.buildbin-libdir && mkdir GenomAutomorphism.buildbin-libdir && F:\biocbuild\bbs-3.20-bioc\R\bin\R.exe CMD INSTALL --build --library=GenomAutomorphism.buildbin-libdir GenomAutomorphism_1.8.1.tar.gz StartedAt: 2025-02-04 08:34:13 -0500 (Tue, 04 Feb 2025) EndedAt: 2025-02-04 08:36:14 -0500 (Tue, 04 Feb 2025) EllapsedTime: 120.1 seconds RetCode: 0 Status: OK PackageFile: GenomAutomorphism_1.8.1.zip PackageFileSize: 1.785 MiB