Package: GenomeInfoDb Version: 1.42.3 Command: /Library/Frameworks/R.framework/Resources/bin/R CMD build --keep-empty-dirs --no-resave-data GenomeInfoDb StartedAt: 2025-02-18 00:14:56 -0500 (Tue, 18 Feb 2025) EndedAt: 2025-02-18 00:15:37 -0500 (Tue, 18 Feb 2025) EllapsedTime: 40.8 seconds RetCode: 0 Status: OK PackageFile: GenomeInfoDb_1.42.3.tar.gz PackageFileSize: 3.419 <A href="http://en.wikipedia.org/wiki/MiB" target="_blank">MiB</A>