Package: GenomeInfoDb
Version: 1.42.0
Command: rm -rf GenomeInfoDb.buildbin-libdir && mkdir GenomeInfoDb.buildbin-libdir && /Users/biocbuild/BBS/utils/build-universal.sh GenomeInfoDb_1.42.0.tar.gz /Library/Frameworks/R.framework/Resources/bin/R GenomeInfoDb.buildbin-libdir
StartedAt: 2024-11-20 04:28:28 -0500 (Wed, 20 Nov 2024)
EndedAt: 2024-11-20 04:28:50 -0500 (Wed, 20 Nov 2024)
EllapsedTime: 22.4 seconds
RetCode: 0
Status: OK
PackageFile: GenomeInfoDb_1.42.0.tgz
PackageFileSize: 3.978 <A href="http://en.wikipedia.org/wiki/MiB" target="_blank">MiB</A>