Package: GenomeInfoDb
Version: 1.42.3
Command: /Library/Frameworks/R.framework/Resources/bin/R CMD build --keep-empty-dirs --no-resave-data GenomeInfoDb
StartedAt: 2025-02-17 19:13:29 -0500 (Mon, 17 Feb 2025)
EndedAt: 2025-02-17 19:14:44 -0500 (Mon, 17 Feb 2025)
EllapsedTime: 75.0 seconds
RetCode: 0
Status: OK
PackageFile: GenomeInfoDb_1.42.3.tar.gz
PackageFileSize: 3.419 <A href="http://en.wikipedia.org/wiki/MiB" target="_blank">MiB</A>