Package: GenomeInfoDb Version: 1.42.3 Command: /Library/Frameworks/R.framework/Resources/bin/R CMD check --install=check:GenomeInfoDb.install-out.txt --library=/Library/Frameworks/R.framework/Resources/library --no-vignettes --timings GenomeInfoDb_1.42.3.tar.gz StartedAt: 2025-02-18 03:38:36 -0500 (Tue, 18 Feb 2025) EndedAt: 2025-02-18 04:00:51 -0500 (Tue, 18 Feb 2025) EllapsedTime: 1335.5 seconds RetCode: 0 Status: OK CheckDir: GenomeInfoDb.Rcheck Warnings: 0